Workbook

Sheet Permbledhje
C1: Summary
B3: Data e tenderit | D3: 14 prill 2026
B4: Subjekti | D4: Furnizim - Vendosje mobiljesh te Gatshme dhe me Porosi per Qendren e Vizitoreve ne Tushemisht
B5: Numri I tenderit | D5: 00199
B7: Nr. | C7: Emertimet e zerave | D7: Vlera (Leke) Pa TVSH | E7: =#REF! -> #REF! | F7: =#REF! -> #REF! | G7: =C16 -> TVSH | W7: =C17 -> Totali me Tvsh | X7: Vlera (%)
B8: A | C8: Mobilim | D8: =A_Mobilim!I46 -> 0 | E8: =D8*0.05 -> 0 | F8: =E8+D8 -> 0 | G8: =F8*0.2 -> 0 | W8: =G8+F8 -> 0 | X8: =D8/D15 -> #DIV/0!
B9: 1 | C9: =A_Mobilim!B8 -> Mobilje me prodhim lokal | D9: =D8 -> 0 | E9: =D9*0.05 -> 0 | F9: =E9+D9 -> 0 | G9: =F9*0.2 -> 0 | W9: =G9+F9 -> 0
B10: B | C10: Mobilje te gatshme | D10: ='B_Mobilje te Gatshme'!F13 -> 0 | E10: =D10*0.05 -> 0 | F10: =E10+D10 -> 0 | G10: =F10*0.2 -> 0 | H10: =0.88*2.08*4 -> 7.3216 | W10: =G10+F10 -> 0 | X10: =D10/$D$15 -> #DIV/0!
B11: 1 | C11: ='B_Mobilje te Gatshme'!B5 -> Mobilje te gatshme | D11: =D10 -> 0 | E11: =D11*0.05 -> 0 | F11: =E11+D11 -> 0 | G11: =F11*0.2 -> 0 | H11: =0.9*2.08 -> 1.872 | W11: =G11+F11 -> 0
B12: C | C12: Elektroshtepiake | D12: =C_Elektroshtepiake!F8 -> 0 | E12: =D12*0.05 -> 0 | F12: =E12+D12 -> 0 | G12: =F12*0.2 -> 0 | H12: =0.88*2.08*4 -> 7.3216 | W12: =G12+F12 -> 0 | X12: =D12/$D$15 -> #DIV/0!
B13: 1 | C13: =C_Elektroshtepiake!B4 -> Elektroshtepiake | D13: =D12 -> 0 | E13: =D13*0.05 -> 0 | F13: =E13+D13 -> 0 | G13: =F13*0.2 -> 0 | H13: =0.9*2.08 -> 1.872 | W13: =G13+F13 -> 0
C15: TOTALI | D15: =D8+D10+D12 -> 0 | E15: =#REF!+#REF!+E12+E10+E2 -> #REF! | F15: =#REF!+#REF!+F12+F10+F2 -> #REF! | G15: =#REF!+#REF!+G12+G10+G2 -> #REF! | H15: =10.12*0.93 -> 9.4116 | I15: muret hark | W15: =#REF!+#REF!+W12+W10+W2 -> #REF!
C16: TVSH | D16: =20/100*D15 -> 0 | J16: 5.3 m2 ne prerje M38
C17: Totali me Tvsh | D17: =D15+D16 -> 0 | J17: =(0.9*2.08*3) -> 5.616 | K17: 3 dyert
J18: =(3.75*2.56)-(0.9*2.4) -> 7.44 | K18: muri tek tualeti
H20: =13.05+32.2+19.6+0.5+4.3 -> 69.65 | I20: me lejla ne plan dhe ne prerje 13.05 m2---P1, 32.2 m2----P2, 19.6 m2---P4, 0.5 ne prerje M36, 4.3 m2 tek M28 ne plan dhe prerje
H21: =4.4+1.58+3.34+10.73+6.2 -> 26.25 | I21: sip. E kuqe ne prerje4.4 m2 dhe ne plan atz ku kam topat e kuq, dhe 6.2 m2 ne prerje tek M28
H22: =(1.05*3.85)+(2*3.67)+(0.77*4.45)+(0.93*3.67)+(3.5*3.37) -> 30.0171 | I22: me blu ne plan
H23: 1.9 | I23: me sip. Te verdhe ne prerje M35
H24: =(13.4*2.56)+(12.4*2.88)-(2*0.9*2.4) -> 65.696 | I24: tek tualetet me te verdhe te trashe
H25: =(6.53*2.56)+(5.11*2.88) -> 31.4336 | I25: tek tualetet
H26: =4.42*4.96 -> 21.9232 | I26: e cojme deri ne tavan pllaken yjarrduruese
H27: =(1.4*4.45)+(1.3*3.5) -> 10.78 | I27: tek shuntet elektrik
H28: =(#REF!+#REF!+#REF!+#REF!+#REF!+#REF!)-(176.9+6.4+6.7)-(2.83+3.06)-5.5 -> #REF! | I28: nga lyerjet totale te mureve dhe tavaneve do zbres tavanet tek W5 (176.9+6.4+6.7) m2, W6(2.83+3.06) m2 dhe tek W1 (5.5 m2) tavani I kalter
H29: me lejla
H30: =(6.1*3)+(5.9*1) -> 24.2 | I30: me te verdhe
H31: me te verdhe
H36: 3.1 M2 ESHTE HARKU POSHTE MUREVE EKYISTUESE
H39: =0.35*(H40+H41) -> 139.608 | I39: 35 % e suvase totale te sprucuar
H40: =56.2+16 -> 72.2 | I40: anesore dhe poshte me hatch te verdhe
H41: =345.2-2.52-16 -> 326.68 | I41: zbres ate trekendeshin e vogel te tavanit dhe hatchin me te verdhe poshte traut
H42: (mure + tavanet nga Irela 62.9 m2) + tavanet nga une 176.9 m2 + muret e zberthyer ne view 132.1 m2 + muret ne plan me top jeshil
H43: (mure + tavanet nga Irela 27.5 m2) + muret e zberthyer ne view 109.5 m2 + muret ne plan me top blu
H44: tavanet 51.5 m2 + te gjitha muret e kalter te zberthyer ne view + 2 here 0.66 m2 shpatullimi ne deren ne hyrje qe e ka vendosur Irela ne plan volumin
H46: mure te matur ne plan
H47: te gjitha muret e tulles te zberthyer ne view
H49: =((1.85*4)+5)*2*1.8 -> 44.64
H52: =7.81-(0.9*2.4) -> 5.65 | I52: KAM NDARE DEREN NGA VETRATA
H53: =7.7-(0.9*2.4) -> 5.54 | I53: KAM NDARE DEREN NGA VETRATA
H54: =6.88-(0.9*2.4) -> 4.72 | I54: KAM NDARE DEREN NGA VETRATA
...

Sheet A_Mobilim
A2: Data e tenderit | C2: 14 prill 2026
A3: Subjekti | C3: Furnizim - Vendosje mobiljesh te Gatshme dhe me Porosi per Qendren e Vizitoreve ne Tushemisht
A4: Numri I tenderit | C4: 00199
A6: Nr. | B6: Emertimet e zerave | C6: Zona ku ndodhet | D6: FMPqe e kMPtMPlogut | E6: Kodi | F6: Njesia | G6: Sasia | H6: Cmimi (Leke) | I6: Vlera (Leke)
A7: A | B7: PUNIME MOBILJESH
A8: 1 | B8: Mobilje me prodhim lokal
A9: 1.01 | B9: Tavoline Recepsion | C9: Recepsion | E9: R1-R | F9: cope | G9: 1 | I9: =H9*G9 -> 0
A10: 1.02 | B10: Stol - Recepsion | C10: Recepsion | E10: S1-R | F10: cope | G10: 1 | I10: =H10*G10 -> 0
A11: 1.03 | B11: Vazo MDF | C11: Recepsion | E11: V1-R | F11: cope | G11: 1 | I11: =H11*G11 -> 0
A12: 1.04 | B12: Vazo MDF | C12: Recepsion | E12: V2-R | F12: cope | G12: 1 | I12: =H12*G12 -> 0
A13: 1.05 | B13: Panel Rrjete Metalike | C13: Recepsion | E13: P1-R | F13: cope | G13: 1 | I13: =H13*G13 -> 0
A14: 1.06 | B14: Panel MDF | C14: Recepsion | E14: P2-R | F14: cope | G14: 1 | I14: =H14*G14 -> 0
A15: 1.07 | B15: Panel Rrjete Metalike | C15: Recepsion | E15: P3-R | F15: cope | G15: 1 | I15: =H15*G15 -> 0
A16: 1.08 | B16: Dollap 1 - Dyqan Suveniresh | C16: Dyqan Suveniresh | E16: D1-DS | F16: cope | G16: 1 | I16: =H16*G16 -> 0
A17: 1.09 | B17: Dollap 2 - Dyqan Suveniresh | C17: Dyqan Suveniresh | E17: D2-DS | F17: cope | G17: 1 | I17: =H17*G17 -> 0
A18: 1.10 | B18: Tavoline/Kase - Dyqan Suveniresh | C18: Dyqan Suveniresh | E18: T1-DS | F18: cope | G18: 1 | I18: =H18*G18 -> 0
A19: 1.11 | B19: Dollap 1 - Bar Rekreativ | C19: Bar Rekreativ | E19: D3-BR | F19: cope | G19: 1 | I19: =H19*G19 -> 0
A20: 1.12 | B20: Dollap 2 - Bar Rekreativ | C20: Bar Rekreativ | E20: D4-BR | F20: cope | G20: 1 | I20: =H20*G20 -> 0
A21: 1.13 | B21: Banak - Bar Rekreativ | C21: Bar Rekreativ | E21: B1-BR | F21: cope | G21: 1 | I21: =H21*G21 -> 0
A22: 1.14 | B22: Kub ekspozimi 1 MDF - Fauna | C22: Fauna | E22: KE1-SEF | F22: cope | G22: 4 | I22: =H22*G22 -> 0
A23: 1.15 | B23: Kub ekspozimi 2 MDF - Fauna | C23: Fauna | E23: KE2-SEF | F23: cope | G23: 2 | I23: =H23*G23 -> 0
A24: 1.16 | B24: Panel Ekspozimi MDF - Salle Ekzposimi | C24: Bar Rekreativ | E24: PE1-SE | F24: cope | G24: 6 | I24: =H24*G24 -> 0
A25: 1.17 | B25: Panel Ekspozimi MDF - Salle Ekzposimi Fauna | C25: Fauna | E25: PE2-SEF | F25: cope | G25: 2 | I25: =H25*G25 -> 0
A26: 1.18 | B26: Kompozim/ Panele Ekspozimi 1 MDF - Entomologjia | C26: Entomologjia | E26: ME1-SEE | F26: cope | G26: 1 | I26: =H26*G26 -> 0
A27: 1.19 | B27: Kompozim/ Panele Ekspozimi 2 MDF - Entomologjia | C27: Entomologjia | E27: ME2-SEE | F27: cope | G27: 1 | I27: =H27*G27 -> 0
A28: 1.20 | B28: Tavolina - Bar Rekreativ | C28: Bar Rekreativ | E28: T2-BR | F28: cope | G28: 9 | I28: =H28*G28 -> 0
A29: 1.21 | B29: Mobilje Ekspozimi 1 - Flora | C29: Flora | E29: ME1-SEF | F29: cope | G29: 1 | I29: =H29*G29 -> 0
A30: 1.22 | B30: Mobilje Ekspozimi 2 - Flora | C30: Flora | E30: ME2-SEF | F30: cope | G30: 1 | I30: =H30*G30 -> 0
A31: 1.23 | B31: Kub | C31: Flora/Arkeologji | E31: K1-SEA/F | F31: cope | G31: 17 | I31: =H31*G31 -> 0
A32: 1.24 | B32: Panel Ekspozimi - Arkeologji | C32: Arkeologji | E32: PE1-SEA | F32: cope | G32: 4 | I32: =H32*G32 -> 0
A33: 1.25 | B33: Panel Akuarium 1 - Arkeologji + Bazament | C33: Arkeologji | E33: PA1-SEA | F33: cope | G33: 1 | I33: =H33*G33 -> 0
A34: 1.26 | B34: Panel Akuarium 2 - Arkeologji + Bazament | C34: Arkeologji | E34: PA2-SEA | F34: cope | G34: 1 | I34: =H34*G34 -> 0
A35: 1.27 | B35: Panel Rrjete Metalike | C35: Recepsion | E35: PV1-R | F35: cope | G35: 1 | I35: =H35*G35 -> 0
A36: 1.28 | B36: Panel Rrjete Metalike | C36: Recepsion | E36: PV2-R | F36: cope | G36: 1 | I36: =H36*G36 -> 0
A37: 1.29 | B37: Panel Rrjete Metalike | C37: Recepsion | E37: PV3-R | F37: cope | G37: 1 | I37: =H37*G37 -> 0
A38: 1.30 | B38: Panel Rrjete Metalike | C38: Recepsion | E38: PV4-R | F38: cope | G38: 1 | I38: =H38*G38 -> 0
A39: 1.31 | B39: Panel Rrjete Metalike | C39: Recepsion | E39: PV5-R | F39: cope | G39: 1 | I39: =H39*G39 -> 0
A40: 1.32 | B40: Metal Dreamy Mesh | C40: Entimologji + Fauna | E40: N-E+F | F40: cope | G40: 1 | I40: =H40*G40 -> 0
A41: 1.33 | B41: Panel MDF 1 + Kavo Celiku per varje nga tavani | C41: Arkeologji | E41: PVN1-SEA | F41: cope | G41: 5 | I41: =H41*G41 -> 0
A42: 1.34 | B42: Panel MDF 2 + Kavo Celiku per varje nga tavani | C42: Arkeologji | E42: PVN2-SEA | F42: cope | G42: 11 | I42: =H42*G42 -> 0
...

Sheet B_Mobilje te Gatshme
A2: Data e tenderit | C2: 14 prill 2026
A3: Subjekti | C3: Furnizim - Vendosje mobiljesh te Gatshme dhe me Porosi per Qendren e Vizitoreve ne Tushemisht
A4: Numri I tenderit | C4: 00199
B5: Mobilje te gatshme
A6: Nr. | B6: Tipi | C6: Pershkrimi | D6: Sasia | E6: Cmim/Cope | F6: Cmim Total | G6: Imazh Orientues | H6: Vendndodhja | I6: Link orientues
A7: 1 | B7: Karrige bari | C7: Karrige bar-kafe minimaliste, material polimeri teknik, ne ngjyre te bardhe. Kembe metalike ne ngjyre gri. | D7: 4 | F7: =E7*D7 -> 0 | H7: Bar Rekreativ | I7: https://www.pedrali.com/en-us/products/stools-design-ottomans/kuadra-1112
A8: 2 | B8: Karrige bar-kafe | C8: Karrige bar-kafe minimaliste, material polimeri teknik, ne ngjyre te bardhe. Kembe metalike ne ngjyre gri. | D8: 36 | F8: =E8*D8 -> 0 | H8: Bar Rekreativ | I8: https://www.pedrali.com/en-us/products/chairs-design/kuadra-1151
A9: 3 | B9: Karrige recepsion/ dyqan suveniresh | C9: Karrige zyre ergonomike me shpinore rrjete në ngjyrë gri, sedilje të tapicuar në ngjyrë gri, bazë dhe këmbë metalike në ngjyrë gri, me dizajn minimalist. | D9: 2 | F9: =E9*D9 -> 0 | H9: Recepesion + Dyqan Suveniresh | I9: https://products.crcmalta.com/product/quadrifoglio-dinamica-executive-chair/
A10: 4 | B10: Karrige konference | C10: Karrige konference të grumbullueshme (deri në 20 njësi), me rrjetë, sistem distancimi për rreshtim dhe tabletë shkrimi, dizajn minimalist, me këmbë metalike ngjyrë gri. | D10: 94 | F10: =E10*D10 -> 0 | H10: Arkeologji | I10: https://www.leyform.com/stacking-chairs/conference-mesh-chairs-f-social-distancing-ilike-re.html
A11: 5 | B11: Poltron konference | C11: Poltron qe do te perdoret per sallen e konferencave, e realizuar nga polietilen, ne ngjyre gri me efekt metalik. Mund te grumbullohen mbi njera tjetren. | D11: 5 | F11: =E11*D11 -> 0 | H11: Arkeologji | I11: https://www.slidedesign.it/collection/amelie-collection?srsltid=AfmBOooAmcJcR_qSrRfdG7YH8k3OIIF1wSvusWpTNJCk2yu8ZEEMgLRq
A12: 6 | B12: Podium | C12: Podium i realizuar me xham dhe konstruksion metalik per konferenca. | D12: 1 | F12: =E12*D12 -> 0 | H12: Arkeologji | I12: https://www.amazon.sg/HMYHUM-Lecterns-Classroom-Weddings-Churches/dp/B0C1VKHBBD
B13: Total | F13: =SUM(F7:F12) -> 0
B14: TVSH | F14: =20/100*F13 -> 0
B15: Totali me TVSH | F15: =F13+F14 -> 0

Sheet C_Elektroshtepiake
A1: Data e tenderit | C1: 14 prill 2026
A2: Subjekti | C2: Furnizim - Vendosje mobiljesh te Gatshme dhe me Porosi per Qendren e Vizitoreve ne Tushemisht
A3: Numri I tenderit | C3: 00199
B4: Elektroshtepiake
A5: Nr. | B5: Tipi | C5: Pershkrimi | D5: Sasia | E5: Cmim/Cope | F5: Cmim Total | G5: Imazh Orientues | H5: Vendndodhja | I5: Link orientues
A6: 1 | B6: Lavapjate | C6: Lavapjate me permasa 86 x 50 x 21, me nje grope dhe nje shesh. Materiali inox. Ngjyra gri. Mishelatori dhe aksesoret e nevojshem per perfunimin e punes. | D6: 1 | F6: =E6*D6 -> 0 | H6: Kuzhine | I6: https://www.neptun.al/categories/LAVAPJATE-LINEAR-1-1-H23-APELL-INOX-MAJT-LN861ILBC
A7: 2 | B7: Mishelator | C7: Mishelator lavapjate bashke me te gjithe aksesoret e neojshem per funksionim total. Modeli te sillet per miratim paraprak para se te vendoset. | D7: 1 | F7: =D7*E7 -> 0 | G7: #VALUE! | H7: Kuzhine | I7: https://www.lobbyhome.al/product/mishelator-lavapjate-bauedge-chrome/
B8: Totali | F8: =F7+F6 -> 0
B9: Tvsh | F9: =20/100*F8 -> 0
B10: Totali me Tvsh | F10: =F8+F9 -> 0
