Workbook

Sheet Permbledhje
B2: Tender No. | D2: #00198
B3: Date: | D3: 46207
B4: Objekti: | D4: AADF - Qendra e Vizitoreve Tushemisht
B5: Lloji I punimeve: | D5: Permbledhese e Pergjithshme
B7: Nr. | C7: Emertimet e zerave | D7: Vlera (Leke) Pa TVSH | E7: =#REF! -> #REF! | F7: =#REF! -> #REF! | G7: =C29 -> TVSH | W7: =C30 -> Totali me Tvsh | X7: Vlera (%)
B8: D | C8: Elektrike | D8: =D9+D10+D11+D12+D13 -> 0 | E8: =D8*0.05 -> 0 | F8: =E8+D8 -> 0 | G8: =F8*0.2 -> 0 | H8: =3.97*3.23 -> 12.8231 | W8: =G8+F8 -> 0 | X8: =D8/$D$28 -> #REF!
B9: 1 | C9: =D_Elektrike!B8 -> Sistemi Fuqise | E9: =D9*0.05 -> 0 | F9: =E9+D9 -> 0 | G9: =F9*0.2 -> 0 | H9: =1.81*3.23*2 -> 11.6926 | W9: =G9+F9 -> 0
B10: 2 | C10: =D_Elektrike!B39 -> Sistemi AUDIO | D10: =D_Elektrike!F48 -> 0 | E10: =D10*0.05 -> 0 | F10: =E10+D10 -> 0 | G10: =F10*0.2 -> 0 | H10: =#REF!+#REF!+#REF!+#REF!+#REF! -> #REF! | W10: =G10+F10 -> 0
B11: 3 | C11: =D_Elektrike!B49 -> Panelet Elektrike te Shperndarjes | D11: =D_Elektrike!F51 -> 0 | E11: =D11*0.05 -> 0 | F11: =E11+D11 -> 0 | G11: =F11*0.2 -> 0 | W11: =G11+F11 -> 0
B12: 4 | C12: =D_Elektrike!B52 -> Sistemi Kontrolli Aksesit | D12: =D_Elektrike!F56 -> 0
B13: 5 | C13: =D_Elektrike!B57 -> Sistemi Dedektimit te zjarrit | D13: =D_Elektrike!F62 -> 0
B14: E | C14: Ndricim Furnizim | D14: =D15 -> 0 | E14: =D14*0.05 -> 0 | F14: =E14+D14 -> 0 | G14: =F14*0.2 -> 0 | H14: 100 euro me tvsh | W14: =G14+F14 -> 0 | X14: =D14/$D$28 -> #REF!
B15: 1 | C15: ='E_Ndricim F'!B6 -> Ndricim FURNIZIM | D15: ='E_Ndricim F'!F28 -> 0 | E15: =D15*0.05 -> 0 | F15: =E15+D15 -> 0 | G15: =F15*0.2 -> 0 | H15: 42 | W15: =G15+F15 -> 0
B16: F | C16: Ndricim Vendosje | D16: =D17 -> 0 | E16: =D16*0.05 -> 0 | F16: =E16+D16 -> 0 | G16: =F16*0.2 -> 0 | W16: =G16+F16 -> 0 | X16: =D16/$D$28 -> #REF!
B17: 1 | C17: ='F_Ndricim V'!B6 -> Ndricim VENDOSJE | D17: ='F_Ndricim V'!F28 -> 0 | E17: =D17*0.05 -> 0 | F17: =E17+D17 -> 0 | G17: =F17*0.2 -> 0 | W17: =G17+F17 -> 0
B18: G | C18: Ndricim i jashtem Furnizim | D18: =D19 -> 0 | E18: =D18*0.05 -> 0 | F18: =E18+D18 -> 0 | G18: =F18*0.2 -> 0 | H18: 100 euro me tvsh | W18: =G18+F18 -> 0 | X18: =D18/$D$28 -> #REF!
B19: 1 | C19: ='G_Ndricim i Jashtem F'!A6 -> Sistemi Ndricimit Jashtem FURNIZIM | E19: =D19*0.05 -> 0 | F19: =E19+D19 -> 0 | G19: =F19*0.2 -> 0 | H19: 42 | W19: =G19+F19 -> 0
B20: H | C20: Ndricim i jashtem Vendosje | D20: =D21 -> 0 | E20: =D20*0.05 -> 0 | F20: =E20+D20 -> 0 | G20: =F20*0.2 -> 0 | W20: =G20+F20 -> 0 | X20: =D20/$D$28 -> #REF!
B21: 1 | C21: ='H_Ndricim i Jashtem V'!A6 -> Sistemi Ndricimit Jashtem VENDOSJE | D21: ='H_Ndricim i Jashtem V'!F13 -> 0 | E21: =D21*0.05 -> 0 | F21: =E21+D21 -> 0 | G21: =F21*0.2 -> 0 | W21: =G21+F21 -> 0
B22: I | C22: Kondicionim | D22: =D23 -> 0 | E22: =D22*0.05 -> 0 | F22: =E22+D22 -> 0 | G22: =F22*0.2 -> 0 | W22: =G22+F22 -> 0 | X22: =D22/$D$28 -> #REF!
B23: 1 | C23: =I_Kondicionim!A7 -> Punime montim cmontimi dhe aksesore | D23: =I_Kondicionim!F18 -> 0 | E23: =D23*0.05 -> 0 | F23: =E23+D23 -> 0 | G23: =F23*0.2 -> 0 | H23: 42 | W23: =G23+F23 -> 0
B24: J | C24: Ndertimore | D24: =J_Ndertimore!F24 -> 0 | E24: =D24*0.05 -> 0 | F24: =E24+D24 -> 0 | G24: =F24*0.2 -> 0 | W24: =G24+F24 -> 0 | X24: =D24/$D$28 -> #REF!
B25: 1 | C25: =J_Ndertimore!A8 -> Punime lyerje | D25: =J_Ndertimore!F13 -> 0 | E25: =D25*0.05 -> 0 | F25: =E25+D25 -> 0 | G25: =F25*0.2 -> 0 | H25: 42 | W25: =G25+F25 -> 0
B26: 2 | C26: =J_Ndertimore!A14 -> Punime dysheme; murature; tavan | D26: =J_Ndertimore!F21 -> 0
B27: 3 | C27: =J_Ndertimore!A22 -> Konstruksion metalik per kondicionim | D27: =J_Ndertimore!F23 -> 0
C28: TOTALI | D28: =D24+D22+D20+D18+D16+D14+D8+#REF!+#REF!+#REF! -> #REF! | E28: =E26+E22+#REF!+#REF!+E2 -> #REF! | F28: =F26+F22+#REF!+#REF!+F2 -> #REF! | G28: =G26+G22+#REF!+#REF!+G2 -> #REF! | H28: =10.12*0.93 -> 9.4116 | I28: muret hark | W28: =W26+W22+#REF!+#REF!+W2 -> #REF!
C29: TVSH | D29: =20/100*D28 -> #REF! | J29: 5.3 m2 ne prerje M38
C30: Totali me Tvsh | D30: =D28+D29 -> #REF! | J30: =(0.9*2.08*3) -> 5.616 | K30: 3 dyert
J31: =(3.75*2.56)-(0.9*2.4) -> 7.44 | K31: muri tek tualeti
H33: =13.05+32.2+19.6+0.5+4.3 -> 69.65 | I33: me lejla ne plan dhe ne prerje 13.05 m2---P1, 32.2 m2----P2, 19.6 m2---P4, 0.5 ne prerje M36, 4.3 m2 tek M28 ne plan dhe prerje
H34: =4.4+1.58+3.34+10.73+6.2 -> 26.25 | I34: sip. E kuqe ne prerje4.4 m2 dhe ne plan atz ku kam topat e kuq, dhe 6.2 m2 ne prerje tek M28
H35: =(1.05*3.85)+(2*3.67)+(0.77*4.45)+(0.93*3.67)+(3.5*3.37) -> 30.0171 | I35: me blu ne plan
H36: 1.9 | I36: me sip. Te verdhe ne prerje M35
H37: =(13.4*2.56)+(12.4*2.88)-(2*0.9*2.4) -> 65.696 | I37: tek tualetet me te verdhe te trashe
H38: =(6.53*2.56)+(5.11*2.88) -> 31.4336 | I38: tek tualetet
H39: =4.42*4.96 -> 21.9232 | I39: e cojme deri ne tavan pllaken yjarrduruese
H40: =(1.4*4.45)+(1.3*3.5) -> 10.78 | I40: tek shuntet elektrik
H41: =(#REF!+#REF!+#REF!+#REF!+#REF!+#REF!)-(176.9+6.4+6.7)-(2.83+3.06)-5.5 -> #REF! | I41: nga lyerjet totale te mureve dhe tavaneve do zbres tavanet tek W5 (176.9+6.4+6.7) m2, W6(2.83+3.06) m2 dhe tek W1 (5.5 m2) tavani I kalter
H42: me lejla
H43: =(6.1*3)+(5.9*1) -> 24.2 | I43: me te verdhe
...

Sheet D_Elektrike
A1: Tender No. | C1: #00198
A2: Data: | C2: 46207
A3: Objekti: | C3: AADF - Qendra e Vizitoreve Tushemisht
A4: Lloji I punimeve: | C4: Punime elektrike
A7: Nr. | B7: Emertimet e zerave | C7: Njesia | D7: Sasia | E7: Cmimi pa TVSH | F7: Vlera
A8: I. | B8: Sistemi Fuqise
A9: 1 | B9: F.V Kabell FG16OM16 5x16mm2 | C9: ml | D9: 5 | F9: =D9*E9 -> 0
A10: 2 | B10: F.V Kabell FG16OM16 5x4mm2 | C10: ml | D10: 80 | F10: =D10*E10 -> 0
A11: 3 | B11: F.V Kabell FG16OM16 3x4mm2 | C11: ml | D11: 270 | F11: =D11*E11 -> 0
A12: 4 | B12: F.V Kabell FG16OM16 3x2.5mm2 | C12: ml | D12: 620 | F12: =D12*E12 -> 0
A13: 5 | B13: F.V Kabell FG16OM16 3x1.5mm2 | C13: ml | D13: 980 | F13: =D13*E13 -> 0
A14: 6 | B14: F.V Kabell kuq e zi 2x1.5mm2 | C14: ml | D14: 300 | F14: =D14*E14 -> 0
A15: 7 | B15: F.V Kabell FG16OM16 21x1.5mm2 | C15: ml | D15: 80 | F15: =D15*E15 -> 0
A16: 8 | B16: F.V Kuti BM + Suport + Kapak 3M | C16: cope | D16: 39 | F16: =D16*E16 -> 0
A17: 9 | B17: F.V Kuti BM + Suport + Kapak 4M | C17: cope | D17: 12 | F17: =D17*E17 -> 0
A18: 10 | B18: F.V Kuti BM + Suport + Kapak 6M | C18: cope | D18: 5 | F18: =D18*E18 -> 0
A19: 11 | B19: F.V Kuti ne Dysheme 4M (Floor Box) | C19: cope | D19: 11 | F19: =D19*E19 -> 0
A20: 12 | B20: F.V Kuti ne Dysheme 16M (Floor Box) | C20: cope | D20: 3 | F20: =D20*E20 -> 0
... A37: 29 | B37: F.V Materiale te Imta | C37: total | D37: 0.02 | F37: =D37*E37 -> 0
F38: =SUM(F9:F37) -> 0
A39: II. | B39: Sistemi AUDIO
A40: 1 | B40: Rack 42 Unit perfshire me te gjithe aksesoret + ventilator 800mmx800 mm | C40: cope | D40: 1 | F40: =D40*E40 -> 0
A41: 2 | B41: Patch Panel 48Porta FTP CAT6A | C41: cope | D41: 4 | F41: =D41*E41 -> 0
A42: 3 | B42: Patch Guide | C42: cope | D42: 4 | F42: =D42*E42 -> 0
A43: 4 | B43: PDU 19" Bllok Prizash SET 6xShuko | C43: cope | D43: 2 | F43: =D43*E43 -> 0
A44: 5 | B44: Tub fleksibel fi25 + aksesore | C44: ml | D44: 250 | F44: =D44*E44 -> 0
A45: 6 | B45: Tub rigid fi25 + aksesore | C45: ml | D45: 800 | F45: =D45*E45 -> 0
A46: 7 | B46: Kabell S/FTP CAT6A | C46: ml | D46: 1950 | F46: =D46*E46 -> 0
A47: 8 | B47: UPS8 KVA 1F-hyrje- 1F dalje Rackmount 6U 230V. 6xC13 | C47: cope | D47: 2 | F47: =D47*E47 -> 0
F48: =SUM(F40:F47) -> 0
A49: III. | B49: Panelet Elektrike te Shperndarjes
A50: 1 | B50: Panel Elektrik I ri (sipas skemes elektrike) | C50: cope | D50: 1 | F50: =E50*D50 -> 0
F51: =SUM(F50) -> 0
A52: IV. | B52: Sistemi Kontrolli Aksesit
A53: 1 | B53: Tripod per kufizimin e hyrjes | C53: cope | D53: 2 | F53: =D53*E53 -> 0
A54: 2 | B54: Reader QR Code I integuar ne Tripod | C54: cope | D54: 2 | F54: =D54*E54 -> 0
A55: 3 | B55: Digital Signage | C55: cope | D55: 1 | F55: =D55*E55 -> 0
F56: =SUM(F53:F55) -> 0
A57: V | B57: Sistemi Dedektimit te zjarrit
A58: 1 | B58: Kabell Zjarri PH90 2x1.5 | C58: ml | D58: 30 | F58: =E58*D58 -> 0
...

Sheet E_Ndricim F
A2: Tender No. | C2: #00198
A3: Data: | C3: 46207
A4: Objekti: | C4: AADF - Qendra e Vizitoreve Tushemisht
A5: Lloji I punimeve: | C5: Punime Ndricimi Furnizimi
B6: Ndricim FURNIZIM
A7: Nr. | B7: Emertimet e zerave | C7: Njesia | D7: Sasia | E7: Cmimi pa TVSH | F7: Vlera
A8: II. | B8: Sistemi Ndricimit Brendshem FURNIZIM
A9: 1 | B9: F. Ndricues tip spot LED 7w, 3000 k- 3500k, me kend te rotullueshem cilindrik, I kompletuar me reflektor. | C9: cope | D9: 17 | F9: =D9*E9 -> 0
A10: 2 | B10: F. Shine Magnetike e zeze ON/OFF dhe DALI 48V 2 meter kompletuar me tapa fundore, max 400 w | C10: cope | D10: 30 | F10: =D10*E10 -> 0
A11: 3 | B11: F. Bashkues per shine magnetike ON/OFF / DALI e zeze | C11: cope | D11: 15 | F11: =D11*E11 -> 0
A12: 4 | B12: F. Ushqyes fundor per shine magnetike ON/OFF / DALI e zeze | C12: cope | D12: 6 | F12: =D12*E12 -> 0
A13: 5 | B13: F. Aksesor per varje shine tip kavo 3M | C13: cope | D13: 72 | F13: =D13*E13 -> 0
A14: 6 | B14: F. Transformator per shinata magnetike 200W , 220V- 48V 4.1A IP20 | C14: cope | D14: 6 | F14: =D14*E14 -> 0
A15: 7 | B15: F. Ndricues linear piksor I zi per shine magnetikec LED 12W CCT 3000k- 3500k , CRI: > 90, Lifetime: > 50.000h | C15: cope | D15: 28 | F15: =D15*E15 -> 0
A16: 8 | B16: F. Spot I zi per shine magnetikec LED 12W ,CCT 3000k- 3500k, CRI: > 90, Lifetime: > 50.000h | C16: cope | D16: 10 | F16: =D16*E16 -> 0
A17: 9 | B17: F. Spot rrethor inkaso I orientueshem , I bardhe 7W 3000K 3500K ,COB 560LM , 60° CRI80 220V Ø95mm | C17: cope | D17: 182 | F17: =D17*E17 -> 0
A18: 10 | B18: F. Shirit LED, 320LEDs/m, 8W/m, 3000k- 3500 K, CRI: > 95, 730-1000 lumen / m, Lifetime: > 50.000h | C18: ml | D18: 160 | F18: =D18*E18 -> 0
A19: 11 | B19: F. Difuzor opal per shirit LED 17* 9 mm, 2m | C19: cope | D19: 80 | F19: =D19*E19 -> 0
A20: 12 | B20: F. Transformator per shirit LED 200W , 220V- 24V 8.32A IP20 | C20: cope | D20: 10 | F20: =D20*E20 -> 0
... A27: 19 | B27: F. Ndricues statik dyshemje me llampe E27 metal + mermer me krah me dimensione 165×35×Η193CM | C27: cope | D27: 6 | F27: =D27*E27 -> 0
A28: Total | F28: =SUM(F9:F27) -> 0
A29: TVSH | F29: =20/100*F28 -> 0
A30: TOTALI me TVSH | F30: =F28+F29 -> 0

Sheet F_Ndricim V
A2: Tender No. | C2: #00198
A3: Data: | C3: 45842
A4: Objekti: | C4: AADF - Qendra e Vizitoreve Tushemisht
A5: Lloji I punimeve: | C5: Punime Ndricimi Vendosje
B6: Ndricim VENDOSJE
A7: Nr. | B7: Emertimet e zerave | C7: Njesia | D7: Sasia | E7: Cmimi pa TVSH | F7: Vlera
A8: III. | B8: Sistemi Ndricimit Brendshem VENDOSJE
A9: 1 | B9: V. Ndricues tip spot LED 7w, 3000 k- 3500k, me kend te rotullueshem cilindrik, I kompletuar me reflektor. | C9: cope | D9: 17 | F9: =D9*E9 -> 0
A10: 2 | B10: V. Shine Magnetike e zeze ON/OFF dhe DALI 48V 2 meter kompletuar me tapa fundore. | C10: cope | D10: 30 | F10: =D10*E10 -> 0
A11: 3 | B11: V. Bashkues per shine magnetike ON/OFF / DALI e zeze | C11: cope | D11: 15 | F11: =D11*E11 -> 0
A12: 4 | B12: V. Ushqyes fundor per shine magnetike ON/OFF / DALI e zeze | C12: cope | D12: 6 | F12: =D12*E12 -> 0
A13: 5 | B13: V. Aksesor per varje shine tip kavo 3M | C13: cope | D13: 72 | F13: =D13*E13 -> 0
A14: 6 | B14: V. Transformator per shinata magnetike 200W , 220V- 48V 4.1A IP20 | C14: cope | D14: 6 | F14: =D14*E14 -> 0
A15: 7 | B15: V. Ndricues linear piksor I zi per shine magnetikec LED 12W CCT 3000k- 3500k | C15: cope | D15: 28 | F15: =D15*E15 -> 0
A16: 8 | B16: V. Spot I zi per shine magnetikec LED 12W CCT 3000k- 3500k | C16: cope | D16: 10 | F16: =D16*E16 -> 0
A17: 9 | B17: V. Spot rrethor inkaso I orientueshem , I bardhe 7W 3000K 3500K ,COB 560LM , 60° CRI80 220V Ø95mm | C17: cope | D17: 182 | F17: =D17*E17 -> 0
A18: 10 | B18: V. Shirit LED, 320LEDs/m, 8W/m, 3000k- 3500 K | C18: ml | D18: 160 | F18: =D18*E18 -> 0
A19: 11 | B19: V. Difuzor opal per shirit LED 17* 9 mm, 2m | C19: cope | D19: 80 | F19: =D19*E19 -> 0
A20: 12 | B20: V. Transformator per shirit LED 200W , 220V- 24V 8.32A IP20 | C20: cope | D20: 10 | F20: =D20*E20 -> 0
... A27: 19 | B27: V. Ndricues statik dyshemje me llampe E27 metal + mermer me krah me dimensione 165×35×Η193CM | C27: cope | D27: 6 | F27: =D27*E27 -> 0
A28: Total | F28: =SUM(F9:F27) -> 0
A29: TVSH | F29: =20/100*F28 -> 0
A30: Totali me TVSH | F30: =F28+F29 -> 0

Sheet G_Ndricim i Jashtem F
A2: Tender No. | C2: #00198
A3: Data: | C3: 46207
A4: Objekti: | C4: AADF - Qendra e Vizitoreve Tushemisht
A5: Lloji I punimeve: | C5: Punime Ndricimi i Jashtem - Furnizim
A6: Sistemi Ndricimit Jashtem FURNIZIM
A7: Nr. | B7: Emertimet e zerave | C7: Njesia | D7: Sasia | E7: Cmimi pa TVSH | F7: Vlera
A8: I. | B8: Sistemi Ndricimit Jashtem FURNIZIM
A9: 1 | B9: F. Shirit LED, 70 LEDs/m, 4 - 5 W/m, 3000k- 3500 K , IP68 Waterproof Flexible LED light strip, with SMD2216 LEDs, 220 V, CRI: > 90Lifetime: > 50.000h , Made in Europe | C9: ml | D9: 720 | F9: =D9*E9 -> 0
A10: 2 | B10: F. Difuzor opal per shirit LED 17* 9 mm, 2m | C10: cope | D10: 360 | F10: =D10*E10 -> 0
A11: 3 | B11: F. Ndricues tip spot I jashtem per instalim ne mure LED 4W, 3000 k - 3500kIP65 | C11: cope | D11: 38 | F11: =D11*E11 -> 0
A12: 4 | B12: F. Spot rrethor inkaso ne dysheme , LED, I zi, per ambient te jashtem , 6- 8 W , 3000k - 3500K, 110lm CRI80 15º IP67 230V | C12: cope | D12: 12 | F12: =D12*E12 -> 0
A13: Total | F13: =SUM(F9:F12) -> 0
A14: TVSH | F14: =20/100*F13 -> 0
A15: Totali me TVSH | F15: =F13+F14 -> 0

Sheet H_Ndricim i Jashtem V
A2: Tender No. | C2: #00198
A3: Data: | C3: 46207
A4: Objekti: | C4: AADF - Qendra e Vizitoreve Tushemisht
A5: Lloji I punimeve: | C5: Punime Ndricimi i Jashtem - Vendosje
A6: Sistemi Ndricimit Jashtem VENDOSJE
A7: Nr. | B7: Emertimet e zerave | C7: Njesia | D7: Sasia | E7: Cmimi pa TVSH | F7: Vlera
A8: II. | B8: Sistemi Ndricimit Jashtem VENDOSJE
A9: 1 | B9: V. Shirit LED, 70 LEDs/m, 4 - 5 W/m, 3000k- 3500 K , IP68 Waterproof Flexible LED light strip, with SMD2216 LEDs, 220 V, CRI: > 90Lifetime: > 50.000h, Made in Europe | C9: ml | D9: 720 | F9: =D9*E9 -> 0
A10: 2 | B10: V. Difuzor opal per shirit LED 17* 9 mm, 2m | C10: cope | D10: 360 | F10: =D10*E10 -> 0
A11: 3 | B11: V. Ndricues tip spot I jashtem per instalim ne mure LED 4W, 3000 k - 3500kIP65 | C11: cope | D11: 38 | F11: =D11*E11 -> 0
A12: 4 | B12: V. Spot rrethor inkaso ne dysheme , LED, I zi, per ambient te jashtem , 6-8 W , 3000k - 3500K, 110lm CRI80 15º IP67 230V | C12: cope | D12: 12 | F12: =D12*E12 -> 0
A13: Total | F13: =SUM(F9:F12) -> 0
A14: TVSH | F14: =20/100*F13 -> 0
A15: Totali me TVSH | F15: =F13+F14 -> 0

Sheet I_Kondicionim
A1: Tende No. | C1: #00198
A2: Data: | C2: 46207
A3: Objekti: | C3: AADF - Qendra e Vizitoreve Tushemisht
A4: Lloji I punimeve: | C4: Punime Kondicionimi
A6: Nr. | B6: Emertimet e zerave | C6: Njesia | D6: Sasia | E6: Cmimi pa TVSH | F6: Vlera
A7: Punime montim cmontimi dhe aksesore
A8: 1 | B8: Mbledhja e gazit te sistemit VRF , cmontimi I tre njesive te brendeshme nga dyshemeja dhe montimi ne lartesi 3m , mbushja me gaz dhe venia persewri ne pune . | C8: total | D8: 1 | F8: =E8*D8 -> 0
A9: 2 | B9: Aksesore per montimin ne lartesi 3 m I tre pajisjeve. | C9: cope | D9: 3 | F9: =D9*E9 -> 0
A10: 3 | B10: F.V Tub Cu i paratermoizoluar Ø 9.52 mm, i pershtashem per presion pune deri 40 bar. | C10: ml | D10: 10 | F10: =D10*E10 -> 0
A11: 4 | B11: F.V Tub Cu i paratermoizoluar Ø 15.88mm, i pershtashem per presion pune deri 40 bar. | C11: ml | D11: 10 | F11: =D11*E11 -> 0
A12: 5 | B12: F.V Kabell elektrik I skermuar 3 x1 mm2 ke komunikim e njesive te brendshme me te jashtemen | C12: ml | D12: 12 | F12: =D12*E12 -> 0
A13: 6 | B13: Hapje kanalesh , dhe mbyllje mbas instalimit te tubacioneve dhe lyerje me boje . | C13: ml | D13: 9 | F13: =D13*E13 -> 0
A14: 7 | B14: F.V Gaz R410 A | C14: kg | D14: 1 | F14: =D14*E14 -> 0
A15: 8 | B15: F.V Atrecature ndihmese + rakorderi per tuba bakri, azot etj | C15: komplet | D15: 1 | F15: =D15*E15 -> 0
A16: 9 | B16: F.V Tub PP Ø 32 mm per linjen e shkarkimit te kondensatit bashke me elementet e nevojshem per montim . | C16: ml | D16: 10 | F16: =D16*E16 -> 0
A17: 10 | B17: F.V Rakorderi PP | C17: komplet | D17: 1 | F17: =D17*E17 -> 0
A18: TOTALI | F18: =SUM(F8:F17) -> 0
A19: Tvsh | F19: =20/100*F18 -> 0
A20: Totali me Tvsh | F20: =F18+F19 -> 0

Sheet J_Ndertimore
A2: Tender No. | C2: #00198
A3: Data: | C3: 46207
A4: Objekti: | C4: AADF - Qendra e Vizitoreve Tushemisht
A5: Lloji I punimeve: | C5: Punime Ndertimore
A7: Nr. | B7: Emertimet e zerave | C7: Njesia | D7: Sasia | E7: Cmimi pa TVSH | F7: Vlera
A8: Punime lyerje
A9: 1 | B9: Lyerje e muratures dhe tavanit me dy duar me boje ekologjike gri e celet Kodi_NCS S 1502-Y kod orientues jo perfundimtar (Ekspozita) | C9: m² | D9: =475+68.55 -> 543.55 | F9: =E9*D9 -> 0
A10: 2 | B10: Lyerje e muratures dhe tavanit me dy duar me boje ekologjike jeshile Kodi_NCS S 1510-G20Y kod orientues jo perfundimtar (Ekspozita) | C10: m² | D10: =46.34+4.95 -> 51.29 | F10: =D10*E10 -> 0
A11: 3 | B11: Lyerje e muratures dhe tavanit me dy duar me boje ekologjike gri e celet Kodi_NCS S 1502-Y kod orientues jo perfundimtar (Zyrat Administrative) | C11: m² | D11: =106.9+0.6 -> 107.5 | F11: =D11*E11 -> 0
A12: 4 | B12: Lyerje e muratures dhe tavanit me dy duar me boje ekologjike jeshile ulliri Kodi_NCS S 5020-G50Y / kod orientues jo perfundimtar (Zyrat Administrative) | C12: m² | D12: 142.9 | F12: =D12*E12 -> 0
F13: =SUM(F9:F12) -> 0
A14: Punime dysheme; murature; tavan
A15: 1 | B15: Hapje dhe rimushje kanali ne dysheme per infrastrukture dhe vendosje torretosh | C15: m² | D15: 75 | F15: =D15*E15 -> 0
A16: 2 | B16: Hapje kanali ne mure dhe riparim I tyre | C16: m² | D16: 20 | F16: =D16*E16 -> 0
A17: 3 | B17: Hapje kanali ne tavan dhe riparim I tyre | C17: m² | D17: 5 | F17: =D17*E17 -> 0
A18: 4 | B18: F.V. shtrim i dyshemese me sistem rezine dekorative shumështresore me spesor rreth 4–5 mm, me perfundim transparent estetik, i pershtatshem per ambient muzeal, duke perfshire: Cikli i Nenshtresave Primer epoksi 2 komponentesh A+B (aplikimi: 1 dore) Shtrese rezine epoksi vetoniveluese 2 komponentesh A+B, me rezistence te larte mekanike dhe ndaj konsumit, per rrafshim dhe krijim baze te qendrueshme (aplikimi: 1–2 duar) Cikli i Dekorimit Aplikim adezivi special me grafike te printuar te integruar, sipas projektit muzeografik, me ngjitje te plote dhe pa flluska ajri (aplikimi: 1 dore) Rezine transparente mbrojtese 2 komponentesh (epoksi ose poliuretane UV-stabile), me perfundim mat, satin ose lucido, rezistente ndaj konsumit, vajrave, alkoolit dhe detergjenteve (aplikimi: 1–2 duar) Sistemi realizohet si siperfaqe monolite pa fuga, me performance te larte estetike dhe funksionale per ambiente ekspozimi. | C18: m² | D18: 178 | F18: =D18*E18 -> 0
A19: 5 | B19: F.V. shtrim i dyshemese me sistem rezine vetoniveluese njëngjyreshe, cilesi e larte, me spesor total rreth 3–4 mm, i pershtatshem per ambiente me kerkesa te larta estetike dhe funksionale, duke perfshire: Cikli i Nenshtresave Primer epoksi 2 komponentesh A+B, me penetrim te larte dhe funksion konsolidues te suportit, per garantimin e aderences maksimale (aplikimi: 1 dore) Shtrese baze rezine epoksi vetoniveluese 2 komponentesh A+B, e pigmentuar ne nje ngjyre sipas zgjedhjes se projektit, me rezistence te larte mekanike ndaj konsumit, abrazionit dhe ngarkesave te moderuara/intensive (aplikimi: 1–2 duar) Shtresa e Perfundimit Top coat poliuretanik ose epoksi 2 komponentesh, mbrojtes transparent ose i pigmentuar, me perfundim mat, satin ose lucido, rezistent ndaj gervishtjeve, vajrave, alkoolit dhe detergjenteve (aplikimi: 1–2 duar) Rezistenca mekanike e larte, siperfaqe monolite pa fuga, antipluhur, higjienike dhe e lehte per mirembajtje. Sistemi realizohet me vetonivelim, duke garantuar uniformitet te plote kromatik dhe perfundim estetik te standardit te larte. | C19: m² | D19: 70 | F19: =E19*D19 -> 0
A20: 6 | B20: Leter muri me printim | C20: m² | D20: 37 | F20: =E20*D20 -> 0
F21: =SUM(F15:F20) -> 0
A22: Konstruksion metalik per kondicionim
A23: 1 | B23: Konstruksion metalik per mbajtjen e kondicionereve horizontalisht ne tavan | C23: cope | D23: 3 | F23: =E23*D23 -> 0
A24: TOTALI | F24: =F23+F21+F13 -> 0
A25: TVSH | F25: =20/100*F24 -> 0
A26: TOTALI me TVSH | F26: =F24+F25 -> 0
